BEGIN:VCALENDAR
VERSION:2.0
PRODID:-//Port of Oxford - ECPv6.15.16//NONSGML v1.0//EN
CALSCALE:GREGORIAN
METHOD:PUBLISH
X-ORIGINAL-URL:https://portofoxford.com
X-WR-CALDESC:Events for Port of Oxford
REFRESH-INTERVAL;VALUE=DURATION:PT1H
X-Robots-Tag:noindex
X-PUBLISHED-TTL:PT1H
BEGIN:VTIMEZONE
TZID:America/New_York
BEGIN:DAYLIGHT
TZOFFSETFROM:-0500
TZOFFSETTO:-0400
TZNAME:EDT
DTSTART:20230312T070000
END:DAYLIGHT
BEGIN:STANDARD
TZOFFSETFROM:-0400
TZOFFSETTO:-0500
TZNAME:EST
DTSTART:20231105T060000
END:STANDARD
BEGIN:DAYLIGHT
TZOFFSETFROM:-0500
TZOFFSETTO:-0400
TZNAME:EDT
DTSTART:20240310T070000
END:DAYLIGHT
BEGIN:STANDARD
TZOFFSETFROM:-0400
TZOFFSETTO:-0500
TZNAME:EST
DTSTART:20241103T060000
END:STANDARD
BEGIN:DAYLIGHT
TZOFFSETFROM:-0500
TZOFFSETTO:-0400
TZNAME:EDT
DTSTART:20250309T070000
END:DAYLIGHT
BEGIN:STANDARD
TZOFFSETFROM:-0400
TZOFFSETTO:-0500
TZNAME:EST
DTSTART:20251102T060000
END:STANDARD
BEGIN:DAYLIGHT
TZOFFSETFROM:-0500
TZOFFSETTO:-0400
TZNAME:EDT
DTSTART:20260308T070000
END:DAYLIGHT
BEGIN:STANDARD
TZOFFSETFROM:-0400
TZOFFSETTO:-0500
TZNAME:EST
DTSTART:20261101T060000
END:STANDARD
BEGIN:DAYLIGHT
TZOFFSETFROM:-0500
TZOFFSETTO:-0400
TZNAME:EDT
DTSTART:20270314T070000
END:DAYLIGHT
BEGIN:STANDARD
TZOFFSETFROM:-0400
TZOFFSETTO:-0500
TZNAME:EST
DTSTART:20271107T060000
END:STANDARD
END:VTIMEZONE
BEGIN:VEVENT
DTSTART;VALUE=DATE:20260406
DTEND;VALUE=DATE:20260411
DTSTAMP:20260422T121000
CREATED:20260204T142340Z
LAST-MODIFIED:20260204T142513Z
UID:10003911-1775433600-1775865599@portofoxford.com
SUMMARY:Plein Air Art Group at the Sandaway
DESCRIPTION:Join a community of local and visiting artists for the Sandaway Suites and Beach spring paint-out sessions. \nIt’s the perfect time to capture the awakening Eastern Shore landscape. (Booking 4-Night Min Stay April 6 – 10) \nText Ben at 410-829-4204 (to find out about our special Spring Artist Discount)
URL:https://portofoxford.com/event/plein-air-art-group-at-the-sandaway/
LOCATION:Sandaway Suites & Beach\, 103 W. Strand Road\, Oxford\, Md\, 21654
CATEGORIES:Accommodation Discounts,Art,Plein Air
ATTACH;FMTTYPE=image/jpeg:https://portofoxford.com/wp-content/uploads/2026/02/admin-ajax-2.jpg
END:VEVENT
BEGIN:VEVENT
DTSTART;TZID=America/New_York:20260319T173000
DTEND;TZID=America/New_York:20260319T190000
DTSTAMP:20260422T121000
CREATED:20260204T171948Z
LAST-MODIFIED:20260204T171948Z
UID:10003923-1773941400-1773946800@portofoxford.com
SUMMARY:OCC Creates – Paint Nite
DESCRIPTION:Join us for OCC Creates – a 3 part engaging famil- friendly series in anticipation of Fine Arts 2026! \nMarch 19th at 5:30pm at OCC \nWe will be joined by paintnite.com for a fun evening of painting! \nCost to attend is $65  All supplies included along with wine and cheese nibbles.
URL:https://portofoxford.com/event/occ-creates-paint-nite/
LOCATION:Oxford Community Center\, 200 Oxford Road\, OXFORD\, MD\, 21654
CATEGORIES:Art,Class
ATTACH;FMTTYPE=image/jpeg:https://portofoxford.com/wp-content/uploads/2026/02/Paint-Night.jpg
END:VEVENT
BEGIN:VEVENT
DTSTART;TZID=America/New_York:20250518T100000
DTEND;TZID=America/New_York:20250518T160000
DTSTAMP:20260422T121000
CREATED:20250321T152554Z
LAST-MODIFIED:20250321T152554Z
UID:10003475-1747562400-1747584000@portofoxford.com
SUMMARY:Oxford Fine Arts 2025
DESCRIPTION:The schedule of events for the weekend begins with the Friday night Preview Party. It provides attendees the chance to “Meet the Artists”\, view the exhibit and buy art! This has always been a fun evening where attendees get to mingle with the artists and enjoy cocktails as well as partake of delicious hors d’oeuvres while getting first looks at the art collection. \nOn Saturday\, the exhibit is open to the public 10:00 AM – 5:00 PM. \nOn Sunday\, the show is open once again to the public at 10:00 AM and closes at 4:00 PM. \nThe raffle of beautiful artwork donated by the artists happens at the end of the show with a toast of bubbly for the occasion. Once again there are lunch items for purchase on both days with the famous strawberry shortcake too!
URL:https://portofoxford.com/event/oxford-fine-arts-2025/2025-05-18/
LOCATION:Oxford Community Center\, 200 Oxford Road\, OXFORD\, MD\, 21654
CATEGORIES:Art,Exhibit
ATTACH;FMTTYPE=image/jpeg:https://portofoxford.com/wp-content/uploads/2025/03/quilt-Presentation.jpg
END:VEVENT
BEGIN:VEVENT
DTSTART;VALUE=DATE:20241213
DTEND;VALUE=DATE:20241216
DTSTAMP:20260422T121000
CREATED:20241102T210456Z
LAST-MODIFIED:20241206T194303Z
UID:10002164-1734048000-1734307199@portofoxford.com
SUMMARY:Oxford Holiday Market
DESCRIPTION:Weekend of December 13th – 15th\nOxford Holiday Market \n\nOxford Community Center \n200 Oxford Rd\, Oxford\, MD \n  \nDon’t miss the inaugural Oxford Holiday Market where there will be talented local artisans\, great gifts\, delicious food\, along with a visit from Santa! \nFriday\, December 13th – 4pm to 8pm\nSaturday\, December 14th –  10am to 5pm\nSunday\, December 15th –  11am to 4pm \nFree Admission \nhttps://www.facebook.com/events/406301165397944
URL:https://portofoxford.com/event/oxford-holiday-market/
LOCATION:Oxford Community Center\, 200 Oxford Road\, OXFORD\, MD\, 21654
CATEGORIES:Art,Holiday Event
END:VEVENT
BEGIN:VEVENT
DTSTART;TZID=America/New_York:20241207T090000
DTEND;TZID=America/New_York:20241207T120000
DTSTAMP:20260422T121000
CREATED:20241102T205859Z
LAST-MODIFIED:20241206T194528Z
UID:10002160-1733562000-1733572800@portofoxford.com
SUMMARY:Christmas Market at Holy Trinity
DESCRIPTION:Saturday\, December 7th – 9am-12pm\nChristmas Market \nThe Church of the Holy Trinity\n502 S. Morris Street\, Oxford\, MD
URL:https://portofoxford.com/event/christmas-market-at-holy-trinity/
LOCATION:Church of the Holy Trinity\, 502 South Morris St.\, Oxford\, MD\, 21654\, United States
CATEGORIES:Art,Holiday Event
END:VEVENT
BEGIN:VEVENT
DTSTART;VALUE=DATE:20240714
DTEND;VALUE=DATE:20240715
DTSTAMP:20260422T121000
CREATED:20230617T220555Z
LAST-MODIFIED:20240603T205707Z
UID:10002025-1720944000-1720976400@portofoxford.com
SUMMARY:Plein Air Easton - Oxford Paint Out
DESCRIPTION:58 Plein Air artists from around the country will spend the day painting in Oxford. Spend the day wandering around and watch them at work. It’s magic! Free reception\, exhibit and sale at Oxford Community Center\, 5 PM. Great opportunity to get a one of a kind work.
URL:https://portofoxford.com/event/plein-air-easton-oxford-paint-out/2024-07-14/
LOCATION:Oxford Community Center\, 200 Oxford Road\, OXFORD\, MD\, 21654
CATEGORIES:Art
ATTACH;FMTTYPE=image/jpeg:https://portofoxford.com/wp-content/uploads/2022/06/plein-air-painting-1.jpg
END:VEVENT
END:VCALENDAR