BEGIN:VCALENDAR
VERSION:2.0
PRODID:-//Port of Oxford - ECPv6.15.16//NONSGML v1.0//EN
CALSCALE:GREGORIAN
METHOD:PUBLISH
X-ORIGINAL-URL:https://portofoxford.com
X-WR-CALDESC:Events for Port of Oxford
REFRESH-INTERVAL;VALUE=DURATION:PT1H
X-Robots-Tag:noindex
X-PUBLISHED-TTL:PT1H
BEGIN:VTIMEZONE
TZID:America/New_York
BEGIN:DAYLIGHT
TZOFFSETFROM:-0500
TZOFFSETTO:-0400
TZNAME:EDT
DTSTART:20230312T070000
END:DAYLIGHT
BEGIN:STANDARD
TZOFFSETFROM:-0400
TZOFFSETTO:-0500
TZNAME:EST
DTSTART:20231105T060000
END:STANDARD
BEGIN:DAYLIGHT
TZOFFSETFROM:-0500
TZOFFSETTO:-0400
TZNAME:EDT
DTSTART:20240310T070000
END:DAYLIGHT
BEGIN:STANDARD
TZOFFSETFROM:-0400
TZOFFSETTO:-0500
TZNAME:EST
DTSTART:20241103T060000
END:STANDARD
BEGIN:DAYLIGHT
TZOFFSETFROM:-0500
TZOFFSETTO:-0400
TZNAME:EDT
DTSTART:20250309T070000
END:DAYLIGHT
BEGIN:STANDARD
TZOFFSETFROM:-0400
TZOFFSETTO:-0500
TZNAME:EST
DTSTART:20251102T060000
END:STANDARD
END:VTIMEZONE
BEGIN:VEVENT
DTSTART;TZID=America/New_York:20241130T193000
DTEND;TZID=America/New_York:20241130T213000
DTSTAMP:20260423T040159
CREATED:20241102T205346Z
LAST-MODIFIED:20241206T194554Z
UID:10002157-1732995000-1733002200@portofoxford.com
SUMMARY:Bria Skonberg Jazz Concert 
DESCRIPTION:Saturday\, November 30th –  7:30 PM  \nBria Skonberg Jazz Concert  \n  \nOxford Community Center \n200 Oxford Rd\, Oxford\, MD \n  \nThe Oxford Community Center (OCC) is thrilled to announce that acclaimed trumpeter\, vocalist\, and songwriter Bria Skonberg will bring her captivating blend of jazz and blues to the OCC stage. \nHailing from New York and originally from Canada\, Bria has made waves in the international jazz scene with her powerful vocals\, blistering trumpet performances\, and striking compositions. \nhttps://www.facebook.com/events/1675059146726745
URL:https://portofoxford.com/event/bria-skonberg-jazz-concert/
LOCATION:Oxford Community Center\, 200 Oxford Road\, OXFORD\, MD\, 21654
CATEGORIES:Performing Arts
ORGANIZER;CN="Oxford Community Center":MAILTO:oxfordcc@gmail.com
END:VEVENT
END:VCALENDAR