BEGIN:VCALENDAR
VERSION:2.0
PRODID:-//Port of Oxford - ECPv6.15.16//NONSGML v1.0//EN
CALSCALE:GREGORIAN
METHOD:PUBLISH
X-WR-CALNAME:Port of Oxford
X-ORIGINAL-URL:https://portofoxford.com
X-WR-CALDESC:Events for Port of Oxford
REFRESH-INTERVAL;VALUE=DURATION:PT1H
X-Robots-Tag:noindex
X-PUBLISHED-TTL:PT1H
BEGIN:VTIMEZONE
TZID:America/New_York
BEGIN:DAYLIGHT
TZOFFSETFROM:-0500
TZOFFSETTO:-0400
TZNAME:EDT
DTSTART:20230312T070000
END:DAYLIGHT
BEGIN:STANDARD
TZOFFSETFROM:-0400
TZOFFSETTO:-0500
TZNAME:EST
DTSTART:20231105T060000
END:STANDARD
BEGIN:DAYLIGHT
TZOFFSETFROM:-0500
TZOFFSETTO:-0400
TZNAME:EDT
DTSTART:20240310T070000
END:DAYLIGHT
BEGIN:STANDARD
TZOFFSETFROM:-0400
TZOFFSETTO:-0500
TZNAME:EST
DTSTART:20241103T060000
END:STANDARD
BEGIN:DAYLIGHT
TZOFFSETFROM:-0500
TZOFFSETTO:-0400
TZNAME:EDT
DTSTART:20250309T070000
END:DAYLIGHT
BEGIN:STANDARD
TZOFFSETFROM:-0400
TZOFFSETTO:-0500
TZNAME:EST
DTSTART:20251102T060000
END:STANDARD
END:VTIMEZONE
BEGIN:VEVENT
DTSTART;TZID=America/New_York:20241208T150000
DTEND;TZID=America/New_York:20241208T163000
DTSTAMP:20260423T033401
CREATED:20241206T194116Z
LAST-MODIFIED:20241206T194327Z
UID:10002186-1733670000-1733675400@portofoxford.com
SUMMARY:Songs of the Season Jazz Concert
DESCRIPTION:A festive afternoon of jazz supporting The Harriet Tubman Museum.  Vocals by Linda Harris\, Guitar by David B. Cole\, and Bass by Wes Biles.  Refreshments provided.  $20 donation appreciated.
URL:https://portofoxford.com/event/songs-of-the-season-jazz-concert/
LOCATION:St. Pauls Church\, 225 S. Morris St.\, Oxford\, MD\, 21654
CATEGORIES:Holiday Event,Performing Arts
ATTACH;FMTTYPE=image/png:https://portofoxford.com/wp-content/uploads/2024/12/Jazz-St-Pauls.png
END:VEVENT
BEGIN:VEVENT
DTSTART;TZID=America/New_York:20241214T173000
DTEND;TZID=America/New_York:20241214T210000
DTSTAMP:20260423T033401
CREATED:20241102T210659Z
LAST-MODIFIED:20241206T194219Z
UID:10002165-1734197400-1734210000@portofoxford.com
SUMMARY:Christmas Caroling
DESCRIPTION:Saturday\, December 14th – 5:30pm \nChristmas Caroling \nEvent starts at Oxford Town Park – Morris Street and concludes at the Oxford Museum\, 101 S. Morris Street\, Oxford\, MD \nAnnual Christmas Caroling in the Oxford Town Park with the Ingram family.  A reception will follow in the Oxford Museum to enjoy their holiday exhibit.  Please note that the Oxford Museum will be open until December 15th.
URL:https://portofoxford.com/event/christmas-caroling/
LOCATION:Oxford Town Park\, 101 N.Morris St.\, Oxford\, 21654
CATEGORIES:Holiday Event,Performing Arts
END:VEVENT
END:VCALENDAR