BEGIN:VCALENDAR
VERSION:2.0
PRODID:-//Port of Oxford - ECPv6.15.16//NONSGML v1.0//EN
CALSCALE:GREGORIAN
METHOD:PUBLISH
X-WR-CALNAME:Port of Oxford
X-ORIGINAL-URL:https://portofoxford.com
X-WR-CALDESC:Events for Port of Oxford
REFRESH-INTERVAL;VALUE=DURATION:PT1H
X-Robots-Tag:noindex
X-PUBLISHED-TTL:PT1H
BEGIN:VTIMEZONE
TZID:America/New_York
BEGIN:DAYLIGHT
TZOFFSETFROM:-0500
TZOFFSETTO:-0400
TZNAME:EDT
DTSTART:20250309T070000
END:DAYLIGHT
BEGIN:STANDARD
TZOFFSETFROM:-0400
TZOFFSETTO:-0500
TZNAME:EST
DTSTART:20251102T060000
END:STANDARD
BEGIN:DAYLIGHT
TZOFFSETFROM:-0500
TZOFFSETTO:-0400
TZNAME:EDT
DTSTART:20260308T070000
END:DAYLIGHT
BEGIN:STANDARD
TZOFFSETFROM:-0400
TZOFFSETTO:-0500
TZNAME:EST
DTSTART:20261101T060000
END:STANDARD
BEGIN:DAYLIGHT
TZOFFSETFROM:-0500
TZOFFSETTO:-0400
TZNAME:EDT
DTSTART:20270314T070000
END:DAYLIGHT
BEGIN:STANDARD
TZOFFSETFROM:-0400
TZOFFSETTO:-0500
TZNAME:EST
DTSTART:20271107T060000
END:STANDARD
END:VTIMEZONE
BEGIN:VEVENT
DTSTART;TZID=America/New_York:20260425T070000
DTEND;TZID=America/New_York:20260425T170000
DTSTAMP:20260422T193432
CREATED:20260203T212144Z
LAST-MODIFIED:20260204T135322Z
UID:10003905-1777100400-1777136400@portofoxford.com
SUMMARY:Oxford Day
DESCRIPTION:fwerry rMark your calendar and plan to join us for Oxford Day\, April 25\, 2026. \nWe are already busy designing an amazing day for you and your family to enjoy.  All the events is FREE and all are welcome.  You may purchase food\, drinks\, and shop with our many merchants. \nFor a taste of the day\, please take a look tour 2025 Event Schedule. Many of our activities and offerings are treasured traditions that happen every year\, including our parade\, our Flower Sale\, Family Hour of fun activities for children of all ages\, our Blessing of the Animals\, Dog Walk and Dog Show\, Library Book Sale\, Opening Day of the Oxford Museum\, and free walk-on Ferry Rides on the Oxford-Bellevue Ferry. \nCheck back closer to April for our 2026 Schedule and information. \n 
URL:https://portofoxford.com/event/oxford-day-2/
LOCATION:Town of Oxford\, Oxford\, MD\, 21654
CATEGORIES:On the Water Activities,Special Event
ATTACH;FMTTYPE=image/jpeg:https://portofoxford.com/wp-content/uploads/2026/02/Screenshot-2026-02-03-161739.jpg
ORGANIZER;CN="Oxford Day Committee":MAILTO:info@oxfordday.org
END:VEVENT
BEGIN:VEVENT
DTSTART;TZID=America/New_York:20260425T110000
DTEND;TZID=America/New_York:20260425T150000
DTSTAMP:20260422T193432
CREATED:20260217T233511Z
LAST-MODIFIED:20260217T233511Z
UID:10004211-1777114800-1777129200@portofoxford.com
SUMMARY:Linger for Lunchat OCC during Oxford Da
DESCRIPTION:Enjoy Oxford Day and Plan to ‘Linger for Lunch’ at the OCC with Eternal Life Ministries Grilln’ Crab Cakes and Singing on the Patio with OCC’s Jam Band from noon and beyond. FREE entertainment\, crab cakes will be for sale.
URL:https://portofoxford.com/event/linger-for-lunchat-occ-during-oxford-da/
LOCATION:Oxford Community Center\, 200 Oxford Road\, OXFORD\, MD\, 21654
CATEGORIES:Live Music,Performing Arts,Special Event
ATTACH;FMTTYPE=image/jpeg:https://portofoxford.com/wp-content/uploads/2026/02/464707959_8669461653077120_1139749703902681181_n.jpg
END:VEVENT
BEGIN:VEVENT
DTSTART;TZID=America/New_York:20260430T170000
DTEND;TZID=America/New_York:20260430T190000
DTSTAMP:20260422T193432
CREATED:20260217T233021Z
LAST-MODIFIED:20260217T233021Z
UID:10004210-1777568400-1777575600@portofoxford.com
SUMMARY:OCC Annual Open House
DESCRIPTION:Join us for the Oxford Community Center’s 2026 Annual Open. Come learn more about what the OCC has to offer and hear all the excitement brewing at the OCC. We thank departing board members and welcome our new ones too. Nibbles and refreshments available. FREE. Please RSVP online so we can plan accordingly. It’s a fun\, social evening for making new friends!
URL:https://portofoxford.com/event/occ-annual-open-house/
LOCATION:Oxford Community Center\, 200 Oxford Road\, OXFORD\, MD\, 21654
CATEGORIES:Special Event
ATTACH;FMTTYPE=image/jpeg:https://portofoxford.com/wp-content/uploads/2026/02/464707959_8669461653077120_1139749703902681181_n.jpg
END:VEVENT
BEGIN:VEVENT
DTSTART;VALUE=DATE:20260515
DTEND;VALUE=DATE:20260518
DTSTAMP:20260422T193432
CREATED:20260204T141031Z
LAST-MODIFIED:20260204T141143Z
UID:10003909-1778803200-1779062399@portofoxford.com
SUMMARY:The 42nd Oxford Fine Arts Fair Returns May 15–17\, 2026
DESCRIPTION:Celebrating art\, community\, and culture at the Oxford Community Center\, Oxford\, MD. \nThe Oxford Community Center Board of Trustees is proud to present the 42nd Oxford Fine Arts Fair\, returning May 15–17\, 2026\, at the Oxford Community Center (200 Oxford Rd.\, Oxford\, MD). This beloved three-day exhibition and sales event highlights outstanding local and regional artists while supporting the year-round cultural programming of the Community Center. \nThis year’s Fair welcomes Erika Long as the new Chair of the signature event\, bringing fresh leadership and vision to the long-standing tradition. \n“The Oxford Fine Arts Fair is more than an art show—it’s a celebration of creativity\, community\, and connection\,” said Erika Long\, Chair of the 2026 Fine Arts Fair. “We’re excited to welcome both new and returning artists\, and to provide visitors with a chance to experience exceptional art in such a vibrant setting.” \nIn addition\, the 2026 juror will be renowned artist Gavin Glakas\, whose expertise and artistic eye will help shape a premier exhibition of fine art. Glakas’ paintings hang in the permanent collections of the United States Capitol\, the Virginia State Capitol\, the CIA\, universities\, museums and numerous other collections both public and private.  He has won numerous honors for his artwork\, including awards from the Portrait Society of America\, the Art Renewal Center\, the Plein Air Salon and the Butler Institute of American Art. His paintings have been featured on NBC News and in The Washington Post\, as well as Fine Art Connoisseur\, American Art Collector\, Plein Air\, International Artist\, The American Scholar\, Art Business News\, The Strand and Elan magazines\, and exhibited at museums and galleries throughout the country. Glakas teaches painting and drawing at Georgetown University Medical School and the Yellow Barn Studio. \n“I’m always drawn to work that shows strong technical ability\, but when judging the Oxford Fine Arts Fair it will be more important for me to see an artist pushing themself – trying to exceed their reach in terms of execution and idea\,” said juror Gavin Glakas. “And\, of course\, idea beats execution every time\, so I’ll also be looking for an artist to communicate something interesting visually or psychologically that goes beyond mere subject matter.” \nThe Fine Arts Fair kicks off on Friday\, May 15th\, 6:00–8:00 PM\, with an elegant Preview Party Gala\, offering patrons an exclusive first look at the artwork while enjoying live entertainment\, hors d’oeuvres\, and wine. The elegant atmosphere will be enhanced by live music from Julie Parson’s Band. Gala tickets are $90 and available by reservation at oxfordcc.org. \nThe exhibition continues on Saturday\, May 16 (10 AM–5 PM) and Sunday\, May 17 (10 AM–4 PM) with a vibrant weekend of art\, music\, and community. Visitors can browse and purchase works from juried artists\, enjoy live demonstrations\, and take part in raffles. Delicious local fare available for purchase—including the Oxford Community Center’s famous Strawberry Shortcake. With 30% of art sales directly benefiting the Oxford Community Center’s year- round programs\, every purchase supports arts\, education\, and cultural activities that enrich the local community. \nAdmission: $5 at the door. Gala reservations are $90 per guest. Open to the public—families\, art lovers\, students\, and collectors are all welcome.
URL:https://portofoxford.com/event/the-42nd-oxford-fine-arts-fair-returns-may-15-17-2026/
LOCATION:Oxford Community Center\, 200 Oxford Road\, OXFORD\, MD\, 21654
CATEGORIES:Art,Special Event
ATTACH;FMTTYPE=image/jpeg:https://portofoxford.com/wp-content/uploads/2026/02/admin-ajax.jpg
END:VEVENT
BEGIN:VEVENT
DTSTART;VALUE=DATE:20260710
DTEND;VALUE=DATE:20260720
DTSTAMP:20260422T193432
CREATED:20260204T164620Z
LAST-MODIFIED:20260204T164620Z
UID:10003918-1783641600-1784505599@portofoxford.com
SUMMARY:Plein Air Easton
DESCRIPTION:Plein Air Easton is the largest and most prestigious juried plein air painting competition in the United States\, held annually in July in Easton\, Maryland. Artists from across the country and around the world apply for the chance to be among the 58 juried artists selected by a distinguished juror each year. Those chosen will travel to Talbot County to create art from life—capturing the beauty of the outdoors rather than working in a studio. \nMany of the world’s most accomplished plein air painters have Easton at the top of their wish list\, and we continue to set the standard for excellence year after year. If you’re ready to become a part of this extraordinary tradition\, apply online today for your chance to secure one of the coveted 58 spots this summer! Act now\, this opportunity to apply as a competition artist will only be available until January 16! \nPlein Air Easton is just one of many programs operated by the Avalon Foundation. Visit avalonfoundation.org to learn more about our other important work. \n 
URL:https://portofoxford.com/event/plein-air-easton/
LOCATION:Throughout Talbot County
CATEGORIES:Art,Plein Air,Special Event
END:VEVENT
BEGIN:VEVENT
DTSTART;VALUE=DATE:20261113
DTEND;VALUE=DATE:20261116
DTSTAMP:20260422T193432
CREATED:20260204T164023Z
LAST-MODIFIED:20260204T164123Z
UID:10003917-1794528000-1794787199@portofoxford.com
SUMMARY:Waterfowl Festival - Fun for the Whole Family
DESCRIPTION:Shop from the world-renowned painters\, sculptors\, carvers and photographers to find that perfect piece for the Waterfowl Festival in Easton\, Maryland\, a lovely\, short ride from Oxford\, Md. \nJoin family and friends to celebrate the traditions\, music\, art and food that makes this area of the world so special.
URL:https://portofoxford.com/event/waterfowl-festival-fun-for-the-whole-family/
LOCATION:Easton\, Maryland\, Easton\, MD\, 21601
CATEGORIES:Dining,Live Music,Special Event
ATTACH;FMTTYPE=image/jpeg:https://portofoxford.com/wp-content/uploads/2026/02/Waterfowl-Festival.jpg
END:VEVENT
END:VCALENDAR