BEGIN:VCALENDAR
VERSION:2.0
PRODID:-//Port of Oxford - ECPv6.15.16//NONSGML v1.0//EN
CALSCALE:GREGORIAN
METHOD:PUBLISH
X-WR-CALNAME:Port of Oxford
X-ORIGINAL-URL:https://portofoxford.com
X-WR-CALDESC:Events for Port of Oxford
REFRESH-INTERVAL;VALUE=DURATION:PT1H
X-Robots-Tag:noindex
X-PUBLISHED-TTL:PT1H
BEGIN:VTIMEZONE
TZID:America/New_York
BEGIN:DAYLIGHT
TZOFFSETFROM:-0500
TZOFFSETTO:-0400
TZNAME:EDT
DTSTART:20250309T070000
END:DAYLIGHT
BEGIN:STANDARD
TZOFFSETFROM:-0400
TZOFFSETTO:-0500
TZNAME:EST
DTSTART:20251102T060000
END:STANDARD
BEGIN:DAYLIGHT
TZOFFSETFROM:-0500
TZOFFSETTO:-0400
TZNAME:EDT
DTSTART:20260308T070000
END:DAYLIGHT
BEGIN:STANDARD
TZOFFSETFROM:-0400
TZOFFSETTO:-0500
TZNAME:EST
DTSTART:20261101T060000
END:STANDARD
BEGIN:DAYLIGHT
TZOFFSETFROM:-0500
TZOFFSETTO:-0400
TZNAME:EDT
DTSTART:20270314T070000
END:DAYLIGHT
BEGIN:STANDARD
TZOFFSETFROM:-0400
TZOFFSETTO:-0500
TZNAME:EST
DTSTART:20271107T060000
END:STANDARD
END:VTIMEZONE
BEGIN:VEVENT
DTSTART;TZID=America/New_York:20260208T080000
DTEND;TZID=America/New_York:20260208T110000
DTSTAMP:20260423T060228
CREATED:20260204T133747Z
LAST-MODIFIED:20260204T134725Z
UID:10003906-1770537600-1770548400@portofoxford.com
SUMMARY:Monthly Community Breakfast & Social at Oxford Firehouse
DESCRIPTION:Bring your family\, friends\, and appetite to the Oxford Firehouse Community Breakfast and make it part of your monthly plans.\nYou’ll enjoy a freshly made breakfast with Pancakes. Waffles\, Eggs\, Eggs w/ Cheese\, Potatoes\, Bacon\, Scrapple\, Sausage\, Biscuits\, Fresh Fruit\, Fresh Baked Breads\, Creamed Chipped Beef\, Sausage Gravy\, Coffee\, and Juices. \nCome for the delicious breakfast at a great price\, enjoy socializing with friends or meeting new people\, and help raise money for the great works of the Oxford Fire Co. \n$12/adult\, and kids under 12 eat free!\nPlease check for event updates at https://www.facebook.com/OxfordFireCo \nBreakfasts take place on the 2nd Sunday of the Month\, from 8 – 11 am\, or until it’s all gone!
URL:https://portofoxford.com/event/monthly-community-breakfast-social-at-oxford-firehouse/
LOCATION:Oxford Fire House\, 300 Oxford Rd.\, Oxford\, MD\, 21654\, United States
CATEGORIES:Dining,Fundraiser
ATTACH;FMTTYPE=image/png:https://portofoxford.com/wp-content/uploads/2026/02/Community-Breakfast-2nd-Sunday-of-the-Month-Oxford-Fire-Co.-Oxford-MD-1.png
END:VEVENT
BEGIN:VEVENT
DTSTART;TZID=America/New_York:20260218T173000
DTEND;TZID=America/New_York:20260218T183000
DTSTAMP:20260423T060228
CREATED:20260204T172605Z
LAST-MODIFIED:20260204T172809Z
UID:10003925-1771435800-1771439400@portofoxford.com
SUMMARY:Local Author – Cathy Schmidt
DESCRIPTION:Local Author Series in partnership with Oxford Library\n*** Date has been changed to February 18th 5:30-6:30 \nFREE (please RSVP) – Cash Bar and Nibbles available \nLocal Author Cathy Schmidt discusses her new book “Anchors”\, a fictional tribute to the town of Oxford\, on Maryland’s Eastern Shore. \nCathy Schmidt lives and works on Maryland’s Eastern Shore. A caterer by trade\, she has written the monthly columns: “Food For Thought\,” and “Oxford Vignettes\,” for Attraction magazine for over a decade. “Anchors” is Cathy’s debut novel. \nChurch bells and mosquito bites are as common as the sunrise in this fictional tribute to the Eastern Shore of Maryland. Set in a waterman’s village in the 1970’s\, Oxford was a mystical place where ancestor’s apparitions roamed houses freely\, front porch stories were a nightly affair\, long lingering talks by the river were a kind of therapy\, and Methodists and drinkers lived side by side.  The main character\, Kate\, embraces a summerwanderlust spirit as she explores the town. During visitations and wanderings\, she is exposed to the fragility of life\, love\,hope\, and fear. Guidance from the anchors in her life helps her make sense of it all. \n  \nGlimmers from a youthful view will draw readers inside Kate’s world for a sit down with a glass of iced tea and slice of zucchini bread wherein they are visited by Southern small town characters. A vibrant setting provides a rare glimpse of a time past that feels lost and surreal\, leaving the reader nostalgic for barefoot days.
URL:https://portofoxford.com/event/local-author-cathy-schmidt/
LOCATION:Oxford Community Center\, 200 Oxford Road\, OXFORD\, MD\, 21654
CATEGORIES:Lecture
END:VEVENT
BEGIN:VEVENT
DTSTART;TZID=America/New_York:20260223T170000
DTEND;TZID=America/New_York:20260223T190000
DTSTAMP:20260423T060228
CREATED:20260204T162644Z
LAST-MODIFIED:20260204T162644Z
UID:10003916-1771866000-1771873200@portofoxford.com
SUMMARY:Spaghetti Dinner at the Firehouse
DESCRIPTION:The Oxford Fire Company Auxiliary invites you to a delicious Spaghetti Dinner at the Oxford Firehouse on Monday\, February 23\, from 5 to 7 p.m. \nDinner includes spaghetti with meatballs\, garlic bread\, salad\, and desserts. \nBring cash for beer\, wine\, and the 50/50 raffle. \nSpaghetti and meatballs are generously provided by Rusticana. \nAll proceeds benefit the Oxford Fire. Co. \nAdults are $15\, kids are $5.
URL:https://portofoxford.com/event/spaghetti-dinner-at-the-firehouse/
LOCATION:Oxford Fire House\, 300 Oxford Rd.\, Oxford\, MD\, 21654\, United States
CATEGORIES:Dining,Fundraiser
ATTACH;FMTTYPE=image/png:https://portofoxford.com/wp-content/uploads/2026/02/SpagettiDinner.png
END:VEVENT
BEGIN:VEVENT
DTSTART;TZID=America/New_York:20260227T190000
DTEND;TZID=America/New_York:20260227T210000
DTSTAMP:20260423T060228
CREATED:20260204T165601Z
LAST-MODIFIED:20260204T165601Z
UID:10003919-1772218800-1772226000@portofoxford.com
SUMMARY:Black History Month Celebration of Emancipation
DESCRIPTION:Join the Talbot Historical Society in partnership with the Oxford Community Center for continued conversation as the descendants of Nathaniel \, “Uncle Nace” Hopkins\, and actor Darius Wallace present ‘A Living History of Nathaniel Hopkins’. This is a moving portrayal of a man who ‘transformed bondage into freedom’s legacy’. FREE\, RSVP online at oxfordcc.org. All are welcome.
URL:https://portofoxford.com/event/black-history-month-celebration-of-emancipation/
LOCATION:Oxford Community Center\, 200 Oxford Road\, OXFORD\, MD\, 21654
CATEGORIES:Lecture,Performing Arts
ATTACH;FMTTYPE=image/jpeg:https://portofoxford.com/wp-content/uploads/2026/02/Uncle-Nace.jpg
END:VEVENT
END:VCALENDAR