BEGIN:VCALENDAR
VERSION:2.0
PRODID:-//Port of Oxford - ECPv6.15.16//NONSGML v1.0//EN
CALSCALE:GREGORIAN
METHOD:PUBLISH
X-WR-CALNAME:Port of Oxford
X-ORIGINAL-URL:https://portofoxford.com
X-WR-CALDESC:Events for Port of Oxford
REFRESH-INTERVAL;VALUE=DURATION:PT1H
X-Robots-Tag:noindex
X-PUBLISHED-TTL:PT1H
BEGIN:VTIMEZONE
TZID:America/New_York
BEGIN:DAYLIGHT
TZOFFSETFROM:-0500
TZOFFSETTO:-0400
TZNAME:EDT
DTSTART:20240310T070000
END:DAYLIGHT
BEGIN:STANDARD
TZOFFSETFROM:-0400
TZOFFSETTO:-0500
TZNAME:EST
DTSTART:20241103T060000
END:STANDARD
BEGIN:DAYLIGHT
TZOFFSETFROM:-0500
TZOFFSETTO:-0400
TZNAME:EDT
DTSTART:20250309T070000
END:DAYLIGHT
BEGIN:STANDARD
TZOFFSETFROM:-0400
TZOFFSETTO:-0500
TZNAME:EST
DTSTART:20251102T060000
END:STANDARD
BEGIN:DAYLIGHT
TZOFFSETFROM:-0500
TZOFFSETTO:-0400
TZNAME:EDT
DTSTART:20260308T070000
END:DAYLIGHT
BEGIN:STANDARD
TZOFFSETFROM:-0400
TZOFFSETTO:-0500
TZNAME:EST
DTSTART:20261101T060000
END:STANDARD
END:VTIMEZONE
BEGIN:VEVENT
DTSTART;TZID=America/New_York:20251123T150000
DTEND;TZID=America/New_York:20251123T160000
DTSTAMP:20260423T061649
CREATED:20251118T135905Z
LAST-MODIFIED:20251118T140444Z
UID:10003901-1763910000-1763913600@portofoxford.com
SUMMARY:Allegra Women's Chorus  Fall Concert Series
DESCRIPTION:Allegra Academy Performance\nThe Allegra Women’s Chorus features fresh arrangements of the oldest songs to new compositions. \nThe program will feature fresh arrangements of the oldest songs to new compositions from Elaine Hagenburg\, Rosephayne Powell\, Craig Hella Johnson\, Sarah Quartel\, and more. The chorus will be joined by instrumentalists Lyn Banghart\, Ursula Encarnacion\, and Ali Remesch on piano\, cello\, and percussion.
URL:https://portofoxford.com/event/allegra-womens-chorus-fall-concert-series/
LOCATION:St. Pauls Church\, 225 S. Morris St.\, Oxford\, MD\, 21654
CATEGORIES:Performing Arts
ATTACH;FMTTYPE=image/jpeg:https://portofoxford.com/wp-content/uploads/2025/11/571254512_823831453348263_2895358659660902891_n.jpg
END:VEVENT
END:VCALENDAR