BEGIN:VCALENDAR
VERSION:2.0
PRODID:-//Port of Oxford - ECPv6.15.16//NONSGML v1.0//EN
CALSCALE:GREGORIAN
METHOD:PUBLISH
X-WR-CALNAME:Port of Oxford
X-ORIGINAL-URL:https://portofoxford.com
X-WR-CALDESC:Events for Port of Oxford
REFRESH-INTERVAL;VALUE=DURATION:PT1H
X-Robots-Tag:noindex
X-PUBLISHED-TTL:PT1H
BEGIN:VTIMEZONE
TZID:America/New_York
BEGIN:DAYLIGHT
TZOFFSETFROM:-0500
TZOFFSETTO:-0400
TZNAME:EDT
DTSTART:20230312T070000
END:DAYLIGHT
BEGIN:STANDARD
TZOFFSETFROM:-0400
TZOFFSETTO:-0500
TZNAME:EST
DTSTART:20231105T060000
END:STANDARD
BEGIN:DAYLIGHT
TZOFFSETFROM:-0500
TZOFFSETTO:-0400
TZNAME:EDT
DTSTART:20240310T070000
END:DAYLIGHT
BEGIN:STANDARD
TZOFFSETFROM:-0400
TZOFFSETTO:-0500
TZNAME:EST
DTSTART:20241103T060000
END:STANDARD
BEGIN:DAYLIGHT
TZOFFSETFROM:-0500
TZOFFSETTO:-0400
TZNAME:EDT
DTSTART:20250309T070000
END:DAYLIGHT
BEGIN:STANDARD
TZOFFSETFROM:-0400
TZOFFSETTO:-0500
TZNAME:EST
DTSTART:20251102T060000
END:STANDARD
END:VTIMEZONE
BEGIN:VEVENT
DTSTART;TZID=America/New_York:20240511T190000
DTEND;TZID=America/New_York:20240511T220000
DTSTAMP:20260424T184651
CREATED:20240508T131336Z
LAST-MODIFIED:20240508T131336Z
UID:10001455-1715454000-1715464800@portofoxford.com
SUMMARY:Spring Soul Dance
DESCRIPTION:The Comfort Zone presented by John Wesley Preservation Society & Museum.
URL:https://portofoxford.com/event/spring-soul-dance/
LOCATION:Oxford Community Center\, 200 Oxford Road\, OXFORD\, MD\, 21654
CATEGORIES:Dance
END:VEVENT
END:VCALENDAR