BEGIN:VCALENDAR
VERSION:2.0
PRODID:-//Port of Oxford - ECPv6.15.16//NONSGML v1.0//EN
CALSCALE:GREGORIAN
METHOD:PUBLISH
X-ORIGINAL-URL:https://portofoxford.com
X-WR-CALDESC:Events for Port of Oxford
REFRESH-INTERVAL;VALUE=DURATION:PT1H
X-Robots-Tag:noindex
X-PUBLISHED-TTL:PT1H
BEGIN:VTIMEZONE
TZID:America/New_York
BEGIN:DAYLIGHT
TZOFFSETFROM:-0500
TZOFFSETTO:-0400
TZNAME:EDT
DTSTART:20230312T070000
END:DAYLIGHT
BEGIN:STANDARD
TZOFFSETFROM:-0400
TZOFFSETTO:-0500
TZNAME:EST
DTSTART:20231105T060000
END:STANDARD
BEGIN:DAYLIGHT
TZOFFSETFROM:-0500
TZOFFSETTO:-0400
TZNAME:EDT
DTSTART:20240310T070000
END:DAYLIGHT
BEGIN:STANDARD
TZOFFSETFROM:-0400
TZOFFSETTO:-0500
TZNAME:EST
DTSTART:20241103T060000
END:STANDARD
BEGIN:DAYLIGHT
TZOFFSETFROM:-0500
TZOFFSETTO:-0400
TZNAME:EDT
DTSTART:20250309T070000
END:DAYLIGHT
BEGIN:STANDARD
TZOFFSETFROM:-0400
TZOFFSETTO:-0500
TZNAME:EST
DTSTART:20251102T060000
END:STANDARD
END:VTIMEZONE
BEGIN:VEVENT
DTSTART;TZID=America/New_York:20241207T140000
DTEND;TZID=America/New_York:20241207T170000
DTSTAMP:20260424T054746
CREATED:20241102T210035Z
LAST-MODIFIED:20241206T194510Z
UID:10002161-1733580000-1733590800@portofoxford.com
SUMMARY:Cookie Walk
DESCRIPTION:Saturday\, December 7th – 2pm to 5pm  \nCookie Walk \nVarious town businesses are on the Cookie Walk \nFor more information\, start at the Oxford Community Center\, 200 Oxford Rd\, Oxford\, MD \n  \nJoin us for the Oxford Business Association Cookie Walk\, a deliciously festive event that invites you to explore Oxford while gathering an assortment of homemade holiday cookies! Hosted by participating local businesses—including charming stores\, cozy restaurants\, scenic marinas\, and professional service spots—this cookie exchange takes you on a sweet journey around town. Stroll through Oxford\, swap cookies\, and enjoy the holiday spirit as each stop adds a unique\, locally crafted treat to your collection. It’s the perfect way to support our community\, discover hidden gems\, and share the joy of the season—one cookie at a time!
URL:https://portofoxford.com/event/cookie-walk-2/
LOCATION:Around Town\, Oxford\, MD\, 21654
CATEGORIES:Dance,Holiday Event
ORGANIZER;CN="Oxford Business Association":MAILTO:portofoxford@gmail.com
END:VEVENT
BEGIN:VEVENT
DTSTART;VALUE=DATE:20241129
DTEND;VALUE=DATE:20241202
DTSTAMP:20260424T054746
CREATED:20241102T204946Z
LAST-MODIFIED:20241206T194613Z
UID:10002156-1732838400-1733097599@portofoxford.com
SUMMARY:Shop Small - Shop Local in Oxford MD
DESCRIPTION:Weekend of November 29th\, 30th\, and December 1st\nShop Small – Shop Local \n  \nShop Small\, Shop Local in Oxford\, Maryland\, and discover the charm of supporting our community’s unique businesses! From cozy storefronts offering one-of-a-kind gifts to beloved local restaurants serving up seasonal favorites\, there’s something special here for everyone. Oxford’s marinas and waterfront services provide exceptional experiences for boating enthusiasts\, while our local museums showcase the rich history and vibrant culture of our town. \n  \nIn addition to shopping and dining\, remember to visit our professional services—each business is dedicated to enhancing the quality of life in Oxford and ensuring our community thrives. By shopping small and supporting local\, you’re helping to preserve the heart of Oxford and keep our waterfront town as welcoming and vibrant as ever. This season let’s make every purchase count by keeping it local!
URL:https://portofoxford.com/event/shop-small-shop-local-in-oxford-md/
LOCATION:Around Town\, Oxford\, MD\, 21654
CATEGORIES:Dance,Holiday Event
ORGANIZER;CN="Oxford Business Association":MAILTO:portofoxford@gmail.com
END:VEVENT
BEGIN:VEVENT
DTSTART;VALUE=DATE:20240714
DTEND;VALUE=DATE:20240715
DTSTAMP:20260424T054746
CREATED:20230617T220555Z
LAST-MODIFIED:20240603T205707Z
UID:10002025-1720944000-1720976400@portofoxford.com
SUMMARY:Plein Air Easton - Oxford Paint Out
DESCRIPTION:58 Plein Air artists from around the country will spend the day painting in Oxford. Spend the day wandering around and watch them at work. It’s magic! Free reception\, exhibit and sale at Oxford Community Center\, 5 PM. Great opportunity to get a one of a kind work.
URL:https://portofoxford.com/event/plein-air-easton-oxford-paint-out/2024-07-14/
LOCATION:Oxford Community Center\, 200 Oxford Road\, OXFORD\, MD\, 21654
CATEGORIES:Art
ATTACH;FMTTYPE=image/jpeg:https://portofoxford.com/wp-content/uploads/2022/06/plein-air-painting-1.jpg
END:VEVENT
END:VCALENDAR