BEGIN:VCALENDAR
VERSION:2.0
PRODID:-//Port of Oxford - ECPv6.15.16//NONSGML v1.0//EN
CALSCALE:GREGORIAN
METHOD:PUBLISH
X-ORIGINAL-URL:https://portofoxford.com
X-WR-CALDESC:Events for Port of Oxford
REFRESH-INTERVAL;VALUE=DURATION:PT1H
X-Robots-Tag:noindex
X-PUBLISHED-TTL:PT1H
BEGIN:VTIMEZONE
TZID:America/New_York
BEGIN:DAYLIGHT
TZOFFSETFROM:-0500
TZOFFSETTO:-0400
TZNAME:EDT
DTSTART:20230312T070000
END:DAYLIGHT
BEGIN:STANDARD
TZOFFSETFROM:-0400
TZOFFSETTO:-0500
TZNAME:EST
DTSTART:20231105T060000
END:STANDARD
BEGIN:DAYLIGHT
TZOFFSETFROM:-0500
TZOFFSETTO:-0400
TZNAME:EDT
DTSTART:20240310T070000
END:DAYLIGHT
BEGIN:STANDARD
TZOFFSETFROM:-0400
TZOFFSETTO:-0500
TZNAME:EST
DTSTART:20241103T060000
END:STANDARD
BEGIN:DAYLIGHT
TZOFFSETFROM:-0500
TZOFFSETTO:-0400
TZNAME:EDT
DTSTART:20250309T070000
END:DAYLIGHT
BEGIN:STANDARD
TZOFFSETFROM:-0400
TZOFFSETTO:-0500
TZNAME:EST
DTSTART:20251102T060000
END:STANDARD
END:VTIMEZONE
BEGIN:VEVENT
DTSTART;TZID=America/New_York:20240706T110000
DTEND;TZID=America/New_York:20240706T140000
DTSTAMP:20260425T084857
CREATED:20240603T214504Z
LAST-MODIFIED:20240603T214608Z
UID:10002029-1720263600-1720274400@portofoxford.com
SUMMARY:Mystery Loves Company Anniversary
DESCRIPTION:Oxford’s favorite bookstore is celebrating 33 years! Come celebrate with them 11 am – 2 pm.
URL:https://portofoxford.com/event/mystery-loves-company-anniversary/
LOCATION:Mystery Loves Company\, 202 South Morris St.\, Oxford\, MD\, 21654\, United States
CATEGORIES:Dance
ATTACH;FMTTYPE=image/jpeg:https://portofoxford.com/wp-content/uploads/2023/06/MysterylovescoFront-resized.jpg
END:VEVENT
BEGIN:VEVENT
DTSTART;VALUE=DATE:20240504
DTEND;VALUE=DATE:20240505
DTSTAMP:20260425T084857
CREATED:20240508T130538Z
LAST-MODIFIED:20240508T130538Z
UID:10001450-1714780800-1714867199@portofoxford.com
SUMMARY:Book Signing at MLC
DESCRIPTION:Meet Con Lehane and pick up a signed copy of Murder in the College Library.
URL:https://portofoxford.com/event/book-signing-at-mlc/
LOCATION:Mystery Loves Company\, 202 South Morris St.\, Oxford\, MD\, 21654\, United States
CATEGORIES:Dance
END:VEVENT
END:VCALENDAR